BEGIN:VCALENDAR
VERSION:2.0
PRODID:-//hacksw/handcal//NONSGML v1.0//EN
BEGIN:VEVENT
DTSTAMP:20240319T183000Z
DTSTART:20240319T183000Z
DTEND:20240319T193000Z
LOCATION:Sitzungssaal, Rathaus, Am Gutshof 1, Ammersbek, 22949, Deutschland
SUMMARY:Fraktionssitzung
END:VEVENT
END:VCALENDAR
