BEGIN:VCALENDAR
VERSION:2.0
PRODID:-//hacksw/handcal//NONSGML v1.0//EN
BEGIN:VEVENT
DTSTAMP:20170928T170000Z
DTSTART:20170928T170000Z
DTEND:20170928T190000Z
LOCATION:Zum Pferdestall am Gutshof, Am Gutshof 1, Ammersbek, 22949 , Deutschland
SUMMARY:CDU BÜRGERSTAMMTISCH
END:VEVENT
END:VCALENDAR
