BEGIN:VCALENDAR
VERSION:2.0
PRODID:-//hacksw/handcal//NONSGML v1.0//EN
BEGIN:VEVENT
DTSTAMP:20170727T170000Z
DTSTART:20170727T170000Z
DTEND:20170727T190000Z
LOCATION:Zum Pferdestall am Gutshof, Am Gutshof 1, 22949 Ammersbek, Am Gutshof 1 , 22949 Ammersbek, Deutschland
SUMMARY:CDU BÜRGERSTAMMTISCH
END:VEVENT
END:VCALENDAR
